BEGIN:VCALENDAR
VERSION:2.0
METHOD:PUBLISH
PRODID:-//Accessible Web Design//My Calendar//http://www.joedolson.com//v//EN';
BEGIN:VEVENT
UID:440-399
LOCATION:
SUMMARY:11：00～アクティブヨガ【担当：志村】
DTSTAMP:20231124T110000
ORGANIZER;CN=sun-admin:MAILTO:densan@sun-road.co.jp
DTSTART:20231124T110000
DTEND:20231124T113000
CATEGORIES:ヨガ
URL;VALUE=URI:
DESCRIPTION;ENCODING=QUOTED-PRINTABLE:レッスンのご予約は【0556-42-8228】まで！ 
END:VEVENT
END:VCALENDAR