BEGIN:VCALENDAR
VERSION:2.0
METHOD:PUBLISH
PRODID:-//Accessible Web Design//My Calendar//http://www.joedolson.com//v//EN';
BEGIN:VEVENT
UID:15-13
LOCATION:
SUMMARY:14：00～親子で運動教室【担当：遠藤/満潮】
DTSTAMP:20230520T140000
ORGANIZER;CN=sun-admin:MAILTO:densan@sun-road.co.jp
DTSTART:20230520T140000
DTEND:20230520T150000
CATEGORIES:イベント
URL;VALUE=URI:
DESCRIPTION;ENCODING=QUOTED-PRINTABLE: 
END:VEVENT
END:VCALENDAR