BEGIN:VCALENDAR
VERSION:2.0
METHOD:PUBLISH
PRODID:-//Accessible Web Design//My Calendar//http://www.joedolson.com//v//EN';
BEGIN:VEVENT
UID:505-462
LOCATION:
SUMMARY:19：00～初級エアロビクス【川瀬】
DTSTAMP:20231217T190000
ORGANIZER;CN=sun-admin:MAILTO:densan@sun-road.co.jp
DTSTART:20231217T190000
DTEND:20231217T193000
CATEGORIES:有酸素運動
URL;VALUE=URI:
DESCRIPTION;ENCODING=QUOTED-PRINTABLE:レッスンのご予約は【0556-42-8228】まで！ 
END:VEVENT
END:VCALENDAR